Workbook

Sheet GEBYR KALKULATOR
B2: Gloppen kommune | C2: Gyldig frå: 01.01.2025
B3: Gebyrregulativ - Plan- og byggningslova
B5: BYGGE- OG DELESAKER - Gebyrforskrifta kapittel 3
B6: 01. Byggning, konstruksjon eller anlegg - PBL § 20-1 a), b), d), e), g), j) | C6: Gebyr kr. | D6: Tal | E6: Sum
B7: - Oppføring, tilbygging, påbygging, underbygging, plassering, endring, ombygging, oppdeling, samanføying, riving og plassering av mellombels byggning, konstruksjon eller anlegg.
B8: - Gebyr utreknast som summen av tal tiltak/brukseininger og kvadratmeter BRA.
B9: Gebyr = antall tiltak/brukseiningar x pris per tiltak/brukseining + kvm BRA x (a/b/c/d)
B11: Antall søknadspliktige tiltak / pris per brukseining | C11: 6950 | D11: 0 | E11: =C11*D11 -> 0
B12: Pris per kvadratmeter | E12: =C12*D12 -> 0
B13: a) Lager / garasje (181,182,231,232,233,239,439) - maksimalt 1000kvm* | C13: 30 | D13: 0 | E13: =C13*D13 -> 0
B14: b) Fiskeri- og lanbruksbyggning (241-249) - maksimalt 1000kvm* | C14: 40 | D14: 0 | E14: =C14*D14 -> 0
B15: c) Bustad/fritidsbustad | C15: 75 | D15: 0 | E15: =C15*D15 -> 0
B16: d) Øvrige bygg (311-840) | C16: 75 | D16: 0 | E16: =C16*D16 -> 0
B17: - Kontor og forretning / Samferdsel og kommunikasjon / Hotell og restaurant / kultur og undervisning / Fengsel, beredskap o.a | E17: =C17*D17 -> 0
B18: *Gebyret utreknast etter maksimalt 1000 kvadratmeter | E18: =C18*D18 -> 0
B19: e) Riving: 10% av gebyr for oppføring - minimum per tiltak: | C19: 3550 | D19: 0 | E19: =C19*D19 -> 0
C20: Mellomrekning | E20: =SUM(E11:E16) -> 0
B21: 02. Øvrige tiltak - PBL § 20-1 c), f), h), i), k), l) | C21: Gebyr kr. | D21: Tal | E21: Sum
B22: Dette kan til dømes vere fasadeendring eller oppføring/endring/reperasjon av bygningstekniske installasjonar, levegg, skilt og reklameinnretningar, vesentleg terrenginngrep, støttemur, veg, avkøyrsel, parkeringsplass.
B24: a) Øvrige tiltak utan krav om ansvarsrett | C24: 4200 | D24: 0 | E24: =C24*D24 -> 0
B25: b) Øvrige tiltak med krav om ansvarsrett | C25: =C11 -> 6950 | D25: 0 | E25: =C25*D25 -> 0
B26: c) Rehabilitering av pipe | C26: =C24 -> 4200 | D26: 0 | E26: =C26*D26 -> 0
B27: + Arbeid etter medgått tid utover 5 timar. Pris per time | C27: 1420 | D27: 0 | E27: =C27*D27 -> 0
B29: 03. Endring av gitt løyve + eventuelt gebyr for "nytt" tiltak | C29: Gebyr kr. | D29: Tal | E29: Sum
B30: Grunngebyr for endring av gitt løyve | C30: =C27*2 -> 2840 | D30: 0 | E30: =C30*D30 -> 0
B31: + I tillegg fakturerast gebyr for nye tiltak som tilkjem endringa, sjå pkt. 1 og 2
B33: 04. Igangsetjingsløyve utover eitt per tiltak | C33: Gebyr kr. | D33: Tal | E33: Sum
B34: Viss tiltaket delast opp slik at det er ønskjeleg med fleire igangsetjingsløyve, vert dei resterande fakturert 2 timer medgått tid | C34: =C27*2 -> 2840 | D34: 0 | E34: =C34*D34 -> 0
B36: 05. Mellombels bruksløyve | C36: Gebyr kr. | D36: Tal | E36: Sum
B37: Mellombels bruksløyve fakturerast med gebyr. Ferdigattest er inkludert i gebyret for tiltaket | C37: =C27*2 -> 2840 | D37: 0 | E37: =C37*D37 -> 0
B39: 06. Sjølvbyggar - SAK § 6-8 | C39: Gebyr kr. | D39: Tal | E39: Sum
B40: Godkjenning av person for ansvarsrett som sjølvbyggar | C40: 8000 | D40: 0 | E40: =C40*D40 -> 0
B42: 07. Per ansvarleg foretak som ikkje har sentral godkjenning som dekker ansvarsområdet | C42: Gebyr kr. | D42: Tal | E42: Sum
B43: Det fakturerast gebyr for kvart foretak som erklærer ansvarsrett som ikkje er dekt av sentral godkjenning | C43: 1350 | D43: 0 | E43: =C43*D43 -> 0
B45: 08. Delingssaker - PBL § 20-1 m | C45: Gebyr kr. | D45: Tal | E45: Sum
B46: Oppretting av ny grunneigedom, ny anleggseigedom eller nytt jordsameige, eller oppretting av ny festegrunn for bortfeste som skal gjelde i meir enn 10 år, eller arealoverføring | C46: 3950 | D46: 0 | E46: =C46*D46 -> 0
B47: Gebyr for evt. dispensasjon og mindre endring kjem i tillegg
B49: 09. Dispensasjonar - PBL § 19-2 | C49: Gebyr kr. | D49: Tal | E49: Sum
B50: Den første dispensasjonen på tiltaket gis gebyr | C50: 9000 | D50: 0 | E50: =C50*D50 -> 0
B51: + Viss det søkjast om dispensasjon frå fleire forhald, fakturerast ekstra gebyr per dispensasjon | C51: 2850 | D51: 0 | E51: =C51*D51 -> 0
...

Sheet GEBYR UTSKRIFT
A3: Gloppen kommune | B3: År: 2025
A4: Gebyrregulativ - Plan- og byggningslova
A5: GEBYR FOR BYGGE- OG DELESAKER - Jf. gebyrforskrifta kapittel 3
A6: 01. Byggning, konstruksjon eller anlegg - PBL § 20-1 a), b), d), e), g), j)
A7: - Oppføring, tilbygging, påbygging, underbygging, plassering, endring, ombygging, oppdeling, samanføying, riving og plassering av mellombels byggning, konstruksjon eller anlegg.
A8: - Gebyr utreknast som summen av tal tiltak/brukseininger og kvadratmeter BRA.
A9: Gebyr = antall tiltak/brukseiningar x pris per tiltak/brukseining + kvm BRA x (a/b/c/d)
A11: Antall søknadspliktige tiltak / pris per brukseining | B11: ='GEBYR KALKULATOR'!C11 -> 6950
A12: Pris per kvadratmeter
A13: a) Lager / garasje (181,182,231,232,233,239,439) - maksimalt 1000kvm* | B13: ='GEBYR KALKULATOR'!C13 -> 30
A14: b) Fiskeri- og lanbruksbyggning (241-249) - maksimalt 1000kvm* | B14: ='GEBYR KALKULATOR'!C14 -> 40
A15: c) Bustad/fritidsbustad | B15: ='GEBYR KALKULATOR'!C15 -> 75
A16: d) Øvrige bygg (311-840) | B16: ='GEBYR KALKULATOR'!C16 -> 75
A18: - Kontor og forretning / Samferdsel og kommunikasjon / Hotell og restaurant / kultur og undervisning / Fengsel, beredskap o.a
A19: *Gebyret utreknast etter maksimalt 1000 kvadratmeter
A20: e) Riving: 10% av gebyr for oppføring - minimum per tiltak: | B20: ='GEBYR KALKULATOR'!C19 -> 3550
A22: 02. Øvrige tiltak - PBL § 20-1 c), f), h), i), k), l)
A23: Dette kan til dømes vere fasadeendring eller oppføring/endring/reperasjon av bygningstekniske installasjonar, levegg, skilt og reklameinnretningar, vesentleg terrenginngrep, støttemur, veg, avkøyrsel, parkeringsplass.
A25: a) Øvrige tiltak utan krav om ansvarsrett | B25: ='GEBYR KALKULATOR'!C24 -> 4200
A26: b) Øvrige tiltak med krav om ansvarsrett | B26: ='GEBYR KALKULATOR'!C25 -> 6950
A27: c) Rehabilitering av pipe | B27: ='GEBYR KALKULATOR'!C26 -> 4200
A28: + Arbeid etter medgått tid utover 5 timar. Pris per time | B28: ='GEBYR KALKULATOR'!C27 -> 1420
A30: 03. Endring av gitt løyve + eventuelt gebyr for "nytt" tiltak
A31: Grunngebyr for endring av gitt løyve | B31: ='GEBYR KALKULATOR'!C30 -> 2840
A32: + I tillegg fakturerast gebyr for nye tiltak som tilkjem endringa, sjå pkt. 1 og 2
A34: 04. Igangsetjingsløyve utover eitt per tiltak
A35: Viss tiltaket delast opp slik at det er ønskjeleg med fleire igangsetjingsløyve, vert dei resterande fakturert 2 timer medgått tid | B35: ='GEBYR KALKULATOR'!C34 -> 2840
A37: 05. Mellombels bruksløyve
A38: Mellombels bruksløyve fakturerast med gebyr. Ferdigattest er inkludert i gebyret for tiltaket | B38: ='GEBYR KALKULATOR'!C37 -> 2840
A40: 06. Sjølvbyggar - SAK § 6-8
A41: Godkjenning av person for ansvarsrett som sjølvbyggar | B41: ='GEBYR KALKULATOR'!C40 -> 8000
A43: 07. Per ansvarleg foretak som ikkje har sentral godkjenning som dekker ansvarsområdet
A44: Det fakturerast gebyr for kvart foretak som erklærer ansvarsrett som ikkje er dekt av sentral godkjenning | B44: ='GEBYR KALKULATOR'!C43 -> 1350
A46: 08. Delingssaker - PBL § 20-1 m
A47: Oppretting av ny grunneigedom, ny anleggseigedom eller nytt jordsameige, eller oppretting av ny festegrunn for bortfeste som skal gjelde i meir enn 10 år, eller arealoverføring. Gebyr for evt. dispensasjon og mindre endring kjem i tillegg | B47: ='GEBYR KALKULATOR'!C46 -> 3950
A49: 09. Dispensasjonar - PBL § 19-2
A50: Den første dispensasjonen på tiltaket gis gebyr | B50: ='GEBYR KALKULATOR'!C50 -> 9000
A51: + Viss det søkjast om dispensasjon frå fleire forhald, fakturerast ekstra gebyr per dispensasjon | B51: ='GEBYR KALKULATOR'!C51 -> 2850
A53: 10. Avslag
A54: Vedtak som medfører avslag på rammesøknad, igangsettingssøknad eller søknad utan ansvarsrett, fakturerast etter medgått tid | B54: ='GEBYR KALKULATOR'!C54 -> 1420
...
